BEGIN:VCALENDAR
VERSION:2.0
PRODID:-//Downtown Lynn Cultural District - ECPv6.15.20//NONSGML v1.0//EN
CALSCALE:GREGORIAN
METHOD:PUBLISH
X-ORIGINAL-URL:https://visitlynnma.org
X-WR-CALDESC:Events for Downtown Lynn Cultural District
REFRESH-INTERVAL;VALUE=DURATION:PT1H
X-Robots-Tag:noindex
X-PUBLISHED-TTL:PT1H
BEGIN:VTIMEZONE
TZID:America/New_York
BEGIN:DAYLIGHT
TZOFFSETFROM:-0500
TZOFFSETTO:-0400
TZNAME:EDT
DTSTART:20250309T070000
END:DAYLIGHT
BEGIN:STANDARD
TZOFFSETFROM:-0400
TZOFFSETTO:-0500
TZNAME:EST
DTSTART:20251102T060000
END:STANDARD
BEGIN:DAYLIGHT
TZOFFSETFROM:-0500
TZOFFSETTO:-0400
TZNAME:EDT
DTSTART:20260308T070000
END:DAYLIGHT
BEGIN:STANDARD
TZOFFSETFROM:-0400
TZOFFSETTO:-0500
TZNAME:EST
DTSTART:20261101T060000
END:STANDARD
BEGIN:DAYLIGHT
TZOFFSETFROM:-0500
TZOFFSETTO:-0400
TZNAME:EDT
DTSTART:20270314T070000
END:DAYLIGHT
BEGIN:STANDARD
TZOFFSETFROM:-0400
TZOFFSETTO:-0500
TZNAME:EST
DTSTART:20271107T060000
END:STANDARD
END:VTIMEZONE
BEGIN:VEVENT
DTSTART;TZID=America/New_York:20260429T083000
DTEND;TZID=America/New_York:20260429T093000
DTSTAMP:20260421T083354
CREATED:20260413T142443Z
LAST-MODIFIED:20260420T142448Z
UID:10001810-1777451400-1777455000@visitlynnma.org
SUMMARY:GLCC Government Affairs Meeting – Lynn Public Health Director
DESCRIPTION:
URL:https://visitlynnma.org/event/glcc-government-affairs-meeting-lynn-public-health-director/
CATEGORIES:Groups, Clubs, and Meet-ups,Politics,Talks and Panel Discussions,Virtual
ATTACH;FMTTYPE=image/jpeg:https://visitlynnma.org/wp-content/uploads/2026/04/GLCC-Government-Affairs-Meeting-April-2026-XcUpKm.jpg
END:VEVENT
END:VCALENDAR