BEGIN:VCALENDAR
VERSION:2.0
PRODID:-//Downtown Lynn Cultural District - ECPv6.15.20//NONSGML v1.0//EN
CALSCALE:GREGORIAN
METHOD:PUBLISH
X-WR-CALNAME:Downtown Lynn Cultural District
X-ORIGINAL-URL:https://visitlynnma.org
X-WR-CALDESC:Events for Downtown Lynn Cultural District
REFRESH-INTERVAL;VALUE=DURATION:PT1H
X-Robots-Tag:noindex
X-PUBLISHED-TTL:PT1H
BEGIN:VTIMEZONE
TZID:America/New_York
BEGIN:DAYLIGHT
TZOFFSETFROM:-0500
TZOFFSETTO:-0400
TZNAME:EDT
DTSTART:20250309T070000
END:DAYLIGHT
BEGIN:STANDARD
TZOFFSETFROM:-0400
TZOFFSETTO:-0500
TZNAME:EST
DTSTART:20251102T060000
END:STANDARD
BEGIN:DAYLIGHT
TZOFFSETFROM:-0500
TZOFFSETTO:-0400
TZNAME:EDT
DTSTART:20260308T070000
END:DAYLIGHT
BEGIN:STANDARD
TZOFFSETFROM:-0400
TZOFFSETTO:-0500
TZNAME:EST
DTSTART:20261101T060000
END:STANDARD
BEGIN:DAYLIGHT
TZOFFSETFROM:-0500
TZOFFSETTO:-0400
TZNAME:EDT
DTSTART:20270314T070000
END:DAYLIGHT
BEGIN:STANDARD
TZOFFSETFROM:-0400
TZOFFSETTO:-0500
TZNAME:EST
DTSTART:20271107T060000
END:STANDARD
END:VTIMEZONE
BEGIN:VEVENT
DTSTART;TZID=America/New_York:20260513T083000
DTEND;TZID=America/New_York:20260513T093000
DTSTAMP:20260421T071426
CREATED:20260413T142513Z
LAST-MODIFIED:20260420T142544Z
UID:10001836-1778661000-1778664600@visitlynnma.org
SUMMARY:GLCC Government Affairs Meeting – Lynn City Council
DESCRIPTION:
URL:https://visitlynnma.org/event/glcc-government-affairs-meeting-lynn-city-council/
LOCATION:MA
CATEGORIES:Groups, Clubs, and Meet-ups,Politics,Talks and Panel Discussions,Virtual
ATTACH;FMTTYPE=image/jpeg:https://visitlynnma.org/wp-content/uploads/2026/04/Government-Affairs-Meeting-with-Lynn-City-Council-May-2026-s49SZi.jpg
END:VEVENT
BEGIN:VEVENT
DTSTART;TZID=America/New_York:20260519T180000
DTEND;TZID=America/New_York:20260519T200000
DTSTAMP:20260421T071426
CREATED:20260420T142534Z
LAST-MODIFIED:20260420T142534Z
UID:10001863-1779213600-1779220800@visitlynnma.org
SUMMARY:Candidate Forum | MA 6th Congressional District
DESCRIPTION:
URL:https://visitlynnma.org/event/candidate-forum-ma-6th-congressional-district/
LOCATION:Knights of Columbus\, 177 Lynnfield Street\, Lynn\, MA\, United States
CATEGORIES:Elections,Politics,VisitLynnMA
ATTACH;FMTTYPE=image/jpeg:https://visitlynnma.org/wp-content/uploads/2026/04/2026-Congressional-Forum-May-19-o6PuXq.jpg
END:VEVENT
END:VCALENDAR